BEGIN:VCALENDAR
VERSION:2.0
PRODID:-//The Roofer&#039;s Helper - ECPv6.15.20//NONSGML v1.0//EN
CALSCALE:GREGORIAN
METHOD:PUBLISH
X-WR-CALNAME:The Roofer&#039;s Helper
X-ORIGINAL-URL:https://www.theroofershelper.com
X-WR-CALDESC:Events for The Roofer&#039;s Helper
REFRESH-INTERVAL;VALUE=DURATION:PT1H
X-Robots-Tag:noindex
X-PUBLISHED-TTL:PT1H
BEGIN:VTIMEZONE
TZID:America/New_York
BEGIN:DAYLIGHT
TZOFFSETFROM:-0500
TZOFFSETTO:-0400
TZNAME:EDT
DTSTART:20230312T070000
END:DAYLIGHT
BEGIN:STANDARD
TZOFFSETFROM:-0400
TZOFFSETTO:-0500
TZNAME:EST
DTSTART:20231105T060000
END:STANDARD
BEGIN:DAYLIGHT
TZOFFSETFROM:-0500
TZOFFSETTO:-0400
TZNAME:EDT
DTSTART:20240310T070000
END:DAYLIGHT
BEGIN:STANDARD
TZOFFSETFROM:-0400
TZOFFSETTO:-0500
TZNAME:EST
DTSTART:20241103T060000
END:STANDARD
BEGIN:DAYLIGHT
TZOFFSETFROM:-0500
TZOFFSETTO:-0400
TZNAME:EDT
DTSTART:20250309T070000
END:DAYLIGHT
BEGIN:STANDARD
TZOFFSETFROM:-0400
TZOFFSETTO:-0500
TZNAME:EST
DTSTART:20251102T060000
END:STANDARD
END:VTIMEZONE
BEGIN:VEVENT
DTSTART;VALUE=DATE:20241001
DTEND;VALUE=DATE:20241003
DTSTAMP:20260422T083707
CREATED:20240819T223523Z
LAST-MODIFIED:20240819T223523Z
UID:10000022-1727744400-1727830799@www.theroofershelper.com
SUMMARY:Limitless Roofing Summit
DESCRIPTION:Join us for our second annual Limitless Roofing Summit at GEHA Field at Arrowhead Stadium! \nBuild relationships with other reputable owners\, learn from industry pros\, and unlock exclusive deals from our amazing sponsors. Don’t miss out on this incredible opportunity if you are an owner of a roofing company.
URL:https://www.theroofershelper.com/event/limitless-roofing-summit/
LOCATION:GEHA Field at Arrowhead Stadium\, 1 Arrowhead Dr\, Kansas City\, MO\, 64129\, United States
ATTACH;FMTTYPE=image/jpeg:https://www.theroofershelper.com/wp-content/uploads/2024/08/Limitless-Summit-Background.jpg
END:VEVENT
END:VCALENDAR