BEGIN:VCALENDAR
VERSION:2.0
PRODID:-//The Roofer&#039;s Helper - ECPv6.15.20//NONSGML v1.0//EN
CALSCALE:GREGORIAN
METHOD:PUBLISH
X-ORIGINAL-URL:https://www.theroofershelper.com
X-WR-CALDESC:Events for The Roofer&#039;s Helper
REFRESH-INTERVAL;VALUE=DURATION:PT1H
X-Robots-Tag:noindex
X-PUBLISHED-TTL:PT1H
BEGIN:VTIMEZONE
TZID:America/New_York
BEGIN:DAYLIGHT
TZOFFSETFROM:-0500
TZOFFSETTO:-0400
TZNAME:EDT
DTSTART:20230312T070000
END:DAYLIGHT
BEGIN:STANDARD
TZOFFSETFROM:-0400
TZOFFSETTO:-0500
TZNAME:EST
DTSTART:20231105T060000
END:STANDARD
BEGIN:DAYLIGHT
TZOFFSETFROM:-0500
TZOFFSETTO:-0400
TZNAME:EDT
DTSTART:20240310T070000
END:DAYLIGHT
BEGIN:STANDARD
TZOFFSETFROM:-0400
TZOFFSETTO:-0500
TZNAME:EST
DTSTART:20241103T060000
END:STANDARD
BEGIN:DAYLIGHT
TZOFFSETFROM:-0500
TZOFFSETTO:-0400
TZNAME:EDT
DTSTART:20250309T070000
END:DAYLIGHT
BEGIN:STANDARD
TZOFFSETFROM:-0400
TZOFFSETTO:-0500
TZNAME:EST
DTSTART:20251102T060000
END:STANDARD
BEGIN:DAYLIGHT
TZOFFSETFROM:-0500
TZOFFSETTO:-0400
TZNAME:EDT
DTSTART:20260308T070000
END:DAYLIGHT
BEGIN:STANDARD
TZOFFSETFROM:-0400
TZOFFSETTO:-0500
TZNAME:EST
DTSTART:20261101T060000
END:STANDARD
BEGIN:DAYLIGHT
TZOFFSETFROM:-0500
TZOFFSETTO:-0400
TZNAME:EDT
DTSTART:20270314T070000
END:DAYLIGHT
BEGIN:STANDARD
TZOFFSETFROM:-0400
TZOFFSETTO:-0500
TZNAME:EST
DTSTART:20271107T060000
END:STANDARD
END:VTIMEZONE
BEGIN:VEVENT
DTSTART;VALUE=DATE:20260210
DTEND;VALUE=DATE:20260214
DTSTAMP:20260424T054152
CREATED:20260102T145153Z
LAST-MODIFIED:20260102T145153Z
UID:10000039-1770685200-1770944399@www.theroofershelper.com
SUMMARY:NERCA 2026 Convention (North/East Roofing Contractors Association)
DESCRIPTION:The 98th Annual Convention & Trade Show will take place February 10-12\, 2026 at the Mohegan Sun in Uncasville\, Connecticut.
URL:https://www.theroofershelper.com/event/nerca-2026-convention-north-east-roofing-contractors-association/
LOCATION:Mohegan Sun\, 1 Mohegan Sun Blvd\, Uncasville\, CT\, 06382\, United States
ATTACH;FMTTYPE=image/png:https://www.theroofershelper.com/wp-content/uploads/2025/02/NERCA-Final-Logo-Regular.png
END:VEVENT
BEGIN:VEVENT
DTSTART;VALUE=DATE:20250318
DTEND;VALUE=DATE:20250322
DTSTAMP:20260424T054152
CREATED:20250224T144750Z
LAST-MODIFIED:20250224T144750Z
UID:10000028-1742259600-1742518799@www.theroofershelper.com
SUMMARY:NERCA 97th Annual Roofing Convention & Trade Show
DESCRIPTION:NERCA is the regional association for roofing professionals covering the northeast part of the country. Our territory includes Connecticut\, Maine\, Massachusetts\, New Hampshire\, New Jersey\, New York\, Pennsylvania\, Rhode Island\, Vermont\, and Delaware. \nWe maintain relationships with national organizations like the National Roofing Contractors Association (NRCA) and other major roof industry players. \nJoin us and experience one of the largest regional roofing tradeshows in the country. This year’s show continues to deliver quality education and will feature many booths displaying products and services designed for you – the roofing professional!
URL:https://www.theroofershelper.com/event/nerca-97th-annual-roofing-convention-trade-show/
LOCATION:Hard Rock Hotel & Casino\, 1000 Boardwalk\, Atlantic City\, NJ\, 08401\, United States
ATTACH;FMTTYPE=image/png:https://www.theroofershelper.com/wp-content/uploads/2025/02/NERCA-Final-Logo-Regular.png
END:VEVENT
BEGIN:VEVENT
DTSTART;VALUE=DATE:20240312
DTEND;VALUE=DATE:20240316
DTSTAMP:20260424T054152
CREATED:20240215T155111Z
LAST-MODIFIED:20240215T155111Z
UID:10000015-1710205200-1710464399@www.theroofershelper.com
SUMMARY:NERCA Roofing Convention & Trade Show
DESCRIPTION:96th Annual Roofing Convention & Trade Show\n\n\n\n\nJoin us\, for the first time\, at Encore Boston Harbor in Everett\, Massachusetts. Attend educational seminars and walk the show floor featuring exhibitors showcasing their latest products and services at the only roofing trade show to take place in the Northeast!
URL:https://www.theroofershelper.com/event/nerca-roofing-convention-trade-show/
LOCATION:Encore Boston Harbor\, 1 Broadway\, Everett\, MA\, 02149\, United States
ATTACH;FMTTYPE=image/png:https://www.theroofershelper.com/wp-content/uploads/2024/02/NERCA-Final-Logo-Regular.png
END:VEVENT
END:VCALENDAR