BEGIN:VCALENDAR
VERSION:2.0
PRODID:-//The Roofer&#039;s Helper - ECPv6.15.20//NONSGML v1.0//EN
CALSCALE:GREGORIAN
METHOD:PUBLISH
X-WR-CALNAME:The Roofer&#039;s Helper
X-ORIGINAL-URL:https://www.theroofershelper.com
X-WR-CALDESC:Events for The Roofer&#039;s Helper
REFRESH-INTERVAL;VALUE=DURATION:PT1H
X-Robots-Tag:noindex
X-PUBLISHED-TTL:PT1H
BEGIN:VTIMEZONE
TZID:America/New_York
BEGIN:DAYLIGHT
TZOFFSETFROM:-0500
TZOFFSETTO:-0400
TZNAME:EDT
DTSTART:20230312T070000
END:DAYLIGHT
BEGIN:STANDARD
TZOFFSETFROM:-0400
TZOFFSETTO:-0500
TZNAME:EST
DTSTART:20231105T060000
END:STANDARD
BEGIN:DAYLIGHT
TZOFFSETFROM:-0500
TZOFFSETTO:-0400
TZNAME:EDT
DTSTART:20240310T070000
END:DAYLIGHT
BEGIN:STANDARD
TZOFFSETFROM:-0400
TZOFFSETTO:-0500
TZNAME:EST
DTSTART:20241103T060000
END:STANDARD
BEGIN:DAYLIGHT
TZOFFSETFROM:-0500
TZOFFSETTO:-0400
TZNAME:EDT
DTSTART:20250309T070000
END:DAYLIGHT
BEGIN:STANDARD
TZOFFSETFROM:-0400
TZOFFSETTO:-0500
TZNAME:EST
DTSTART:20251102T060000
END:STANDARD
END:VTIMEZONE
BEGIN:VEVENT
DTSTART;VALUE=DATE:20240109
DTEND;VALUE=DATE:20240113
DTSTAMP:20260424T053844
CREATED:20231129T014823Z
LAST-MODIFIED:20231222T160823Z
UID:10000007-1704762000-1705021199@www.theroofershelper.com
SUMMARY:SRC Summit 2024
DESCRIPTION:The SRC (Storm Restoration Contractor) Summit brings in contractors in from all over the U.S. for 3 days of learning\, networking\, relationship building and fun. \nThe industry’s top experts will be sharing their strategies for success. \nOver 40 Industry Expert Speakers- You’ll Learn: \n· How to Set Up Your Business to Sell \n· New Technology by Eagleview Co-Founder David Carlson \n· Mastering Documentation & Presentation of Details \n· Sales Leadership Panel with Q&A \n· How to Leverage Retail Roofing When There’s No Storm to Work \nQ&A with Industry Experts \nTrade Show\n \nNetworking Events \n& So Much More \nWe look forward to bringing in the best and brightest in the industry!
URL:https://www.theroofershelper.com/event/src-summit-2024/
LOCATION:Frisco Conference Center\, 7600 John Q Hammons Dr.\, Frisco\, TX\, 75034\, United States
ATTACH;FMTTYPE=image/png:https://www.theroofershelper.com/wp-content/uploads/2023/11/cropped-SRC-Logo-1920w.png
END:VEVENT
END:VCALENDAR