BEGIN:VCALENDAR
VERSION:2.0
PRODID:-//The Roofer&#039;s Helper - ECPv6.15.20//NONSGML v1.0//EN
CALSCALE:GREGORIAN
METHOD:PUBLISH
X-ORIGINAL-URL:https://www.theroofershelper.com
X-WR-CALDESC:Events for The Roofer&#039;s Helper
REFRESH-INTERVAL;VALUE=DURATION:PT1H
X-Robots-Tag:noindex
X-PUBLISHED-TTL:PT1H
BEGIN:VTIMEZONE
TZID:America/New_York
BEGIN:DAYLIGHT
TZOFFSETFROM:-0500
TZOFFSETTO:-0400
TZNAME:EDT
DTSTART:20240310T070000
END:DAYLIGHT
BEGIN:STANDARD
TZOFFSETFROM:-0400
TZOFFSETTO:-0500
TZNAME:EST
DTSTART:20241103T060000
END:STANDARD
BEGIN:DAYLIGHT
TZOFFSETFROM:-0500
TZOFFSETTO:-0400
TZNAME:EDT
DTSTART:20250309T070000
END:DAYLIGHT
BEGIN:STANDARD
TZOFFSETFROM:-0400
TZOFFSETTO:-0500
TZNAME:EST
DTSTART:20251102T060000
END:STANDARD
BEGIN:DAYLIGHT
TZOFFSETFROM:-0500
TZOFFSETTO:-0400
TZNAME:EDT
DTSTART:20260308T070000
END:DAYLIGHT
BEGIN:STANDARD
TZOFFSETFROM:-0400
TZOFFSETTO:-0500
TZNAME:EST
DTSTART:20261101T060000
END:STANDARD
END:VTIMEZONE
BEGIN:VEVENT
DTSTART;VALUE=DATE:20250219
DTEND;VALUE=DATE:20250223
DTSTAMP:20260422T084106
CREATED:20240819T153732Z
LAST-MODIFIED:20240819T153732Z
UID:10000020-1739926800-1740185999@www.theroofershelper.com
SUMMARY:The International Roofing Expo
DESCRIPTION:The International Roofing Expo (IRE) is the largest roofing and exteriors event in North America. Each year residential and commercial professionals come together to meet suppliers\, discover new products\, network with the global industry and improve how they run their businesses. \n\n\n\n\n\n\n\n\n\n\nIRE 2025 will take place at the Henry B. González Convention Center\, in San Antonio\, TX from February 19-21st\, 2025.
URL:https://www.theroofershelper.com/event/the-international-roofing-expo/
LOCATION:Henry B. Gonzalez Convention Center\, 900 E Market St\, San Antonio\, TX\, 78205\, United States
ATTACH;FMTTYPE=image/jpeg:https://www.theroofershelper.com/wp-content/uploads/2023/12/2023-12-16-16_20_46-Window.jpg
END:VEVENT
END:VCALENDAR