BEGIN:VCALENDAR
VERSION:2.0
PRODID:-//The Roofer&#039;s Helper - ECPv6.15.20//NONSGML v1.0//EN
CALSCALE:GREGORIAN
METHOD:PUBLISH
X-ORIGINAL-URL:https://www.theroofershelper.com
X-WR-CALDESC:Events for The Roofer&#039;s Helper
REFRESH-INTERVAL;VALUE=DURATION:PT1H
X-Robots-Tag:noindex
X-PUBLISHED-TTL:PT1H
BEGIN:VTIMEZONE
TZID:America/New_York
BEGIN:DAYLIGHT
TZOFFSETFROM:-0500
TZOFFSETTO:-0400
TZNAME:EDT
DTSTART:20230312T070000
END:DAYLIGHT
BEGIN:STANDARD
TZOFFSETFROM:-0400
TZOFFSETTO:-0500
TZNAME:EST
DTSTART:20231105T060000
END:STANDARD
BEGIN:DAYLIGHT
TZOFFSETFROM:-0500
TZOFFSETTO:-0400
TZNAME:EDT
DTSTART:20240310T070000
END:DAYLIGHT
BEGIN:STANDARD
TZOFFSETFROM:-0400
TZOFFSETTO:-0500
TZNAME:EST
DTSTART:20241103T060000
END:STANDARD
BEGIN:DAYLIGHT
TZOFFSETFROM:-0500
TZOFFSETTO:-0400
TZNAME:EDT
DTSTART:20250309T070000
END:DAYLIGHT
BEGIN:STANDARD
TZOFFSETFROM:-0400
TZOFFSETTO:-0500
TZNAME:EST
DTSTART:20251102T060000
END:STANDARD
BEGIN:DAYLIGHT
TZOFFSETFROM:-0500
TZOFFSETTO:-0400
TZNAME:EDT
DTSTART:20260308T070000
END:DAYLIGHT
BEGIN:STANDARD
TZOFFSETFROM:-0400
TZOFFSETTO:-0500
TZNAME:EST
DTSTART:20261101T060000
END:STANDARD
END:VTIMEZONE
BEGIN:VEVENT
DTSTART;VALUE=DATE:20251203
DTEND;VALUE=DATE:20251207
DTSTAMP:20260422T091426
CREATED:20250902T174511Z
LAST-MODIFIED:20250902T174606Z
UID:10000036-1764723600-1764982799@www.theroofershelper.com
SUMMARY:Roofing Process Conference
DESCRIPTION:Transform Your Business at the Roofing Industry’s Premier Event!\nThe #1 Roofing Conference in the Nation for Growth\, Innovation\, and Sales Success.\nLast year’s 6th Annual Roofing Process Conference was a game-changer\, redefining professional development in the roofing industry. Over 750 roofing professionals came together in Marco Island\, Florida\, to gain actionable insights\, explore cutting-edge strategies\, and build powerful connections. This year promises to raise the bar even higher—don’t miss your chance to be part of the transformation!
URL:https://www.theroofershelper.com/event/roofing-process-conference-2/
LOCATION:JW Marriot\, 400 S Collier Blvd\, Marco Island\, FL\, 34145\, United States
ATTACH;FMTTYPE=image/jpeg:https://www.theroofershelper.com/wp-content/uploads/2025/09/roofing-process-conference.jpg
END:VEVENT
BEGIN:VEVENT
DTSTART;VALUE=DATE:20241204
DTEND;VALUE=DATE:20241208
DTSTAMP:20260422T091426
CREATED:20240819T222037Z
LAST-MODIFIED:20240819T223653Z
UID:10000021-1733274000-1733533199@www.theroofershelper.com
SUMMARY:Roofing Process Conference
DESCRIPTION:Join us in Marco Island\, Florida from December 4th – 6th\, 2024 for the 6th Annual Roofing Process Conference! \nIn addition to our lineup of expert keynote speakers\, we will also have plenty of breakout speakers\, afterparties\, product giveaways\, and so much more!
URL:https://www.theroofershelper.com/event/roofing-process-conference/
LOCATION:JW Marriot\, 400 S Collier Blvd\, Marco Island\, FL\, 34145\, United States
ATTACH;FMTTYPE=image/jpeg:https://www.theroofershelper.com/wp-content/uploads/2024/08/Roofing-Process-Conference.jpg
END:VEVENT
END:VCALENDAR