BEGIN:VCALENDAR
VERSION:2.0
PRODID:-//The Roofer&#039;s Helper - ECPv6.15.20//NONSGML v1.0//EN
CALSCALE:GREGORIAN
METHOD:PUBLISH
X-WR-CALNAME:The Roofer&#039;s Helper
X-ORIGINAL-URL:https://www.theroofershelper.com
X-WR-CALDESC:Events for The Roofer&#039;s Helper
REFRESH-INTERVAL;VALUE=DURATION:PT1H
X-Robots-Tag:noindex
X-PUBLISHED-TTL:PT1H
BEGIN:VTIMEZONE
TZID:America/New_York
BEGIN:DAYLIGHT
TZOFFSETFROM:-0500
TZOFFSETTO:-0400
TZNAME:EDT
DTSTART:20230312T070000
END:DAYLIGHT
BEGIN:STANDARD
TZOFFSETFROM:-0400
TZOFFSETTO:-0500
TZNAME:EST
DTSTART:20231105T060000
END:STANDARD
BEGIN:DAYLIGHT
TZOFFSETFROM:-0500
TZOFFSETTO:-0400
TZNAME:EDT
DTSTART:20240310T070000
END:DAYLIGHT
BEGIN:STANDARD
TZOFFSETFROM:-0400
TZOFFSETTO:-0500
TZNAME:EST
DTSTART:20241103T060000
END:STANDARD
BEGIN:DAYLIGHT
TZOFFSETFROM:-0500
TZOFFSETTO:-0400
TZNAME:EDT
DTSTART:20250309T070000
END:DAYLIGHT
BEGIN:STANDARD
TZOFFSETFROM:-0400
TZOFFSETTO:-0500
TZNAME:EST
DTSTART:20251102T060000
END:STANDARD
END:VTIMEZONE
BEGIN:VEVENT
DTSTART;TZID=America/New_York:20240201T100000
DTEND;TZID=America/New_York:20240201T160000
DTSTAMP:20260422T084041
CREATED:20231027T150822Z
LAST-MODIFIED:20240115T222804Z
UID:10000001-1706781600-1706803200@www.theroofershelper.com
SUMMARY:The Roof Gallery Summit
DESCRIPTION:The Roof Gallery Summit: A Conference for Roofing Entrepreneurs and Professionals\n\nJoin us on February 1st for a remarkable occasion that promises to reshape the roofing landscape – The Roof Gallery Summit: A Conference for Roofing Entrepreneurs and Professionals. This groundbreaking initiative is a testament to our commitment to fostering diversity\, inclusion\, and innovation within the roofing community. \nIn celebration of Black History Month\, we invite you to mark your calendars and become an integral part of this transformative event. Our mission is to create an environment where every voice is heard\, every story is valued\, and every individual’s potential is recognized\, regardless of their background. \nPrepare for a day of enlightenment\, engagement\, and empowerment. Our summit features thought-provoking keynote speakers\, informative panel discussions\, and interactive workshops that delve into the intersections of roofing and diversity. Speakers include Dashaun Bryant with Roof Hustlers\, Vern Gwynn who is the VP of Financial Wellness with Truist Bank\, OSHA Training and Certifications with Shane Henderson of Pike Consulting \, Health and Wealth for D2D Salesmen with Kelvin Tata and Diversity and Inclusion with Donavan Morgan. Discover insights\, gain fresh perspectives\, and connect with like-minded individuals who are committed to driving positive change.
URL:https://www.theroofershelper.com/event/roof-gallery-summit/
LOCATION:The Roof Gallery\, 1395 South Marietta Pkwy SE Bldg 200 Suite 203\, Marietta\, GA\, 30067\, United States
ATTACH;FMTTYPE=image/png:https://www.theroofershelper.com/wp-content/uploads/2023/10/summitflyer-scaled.png
END:VEVENT
END:VCALENDAR